BEGIN:VCALENDAR
VERSION:2.0
PRODID:-//TALiNT Partners - Connecting the talent ecosystem​ - ECPv6.15.20//NONSGML v1.0//EN
CALSCALE:GREGORIAN
METHOD:PUBLISH
X-ORIGINAL-URL:https://talintpartners.com
X-WR-CALDESC:Events for TALiNT Partners - Connecting the talent ecosystem​
REFRESH-INTERVAL;VALUE=DURATION:PT1H
X-Robots-Tag:noindex
X-PUBLISHED-TTL:PT1H
BEGIN:VTIMEZONE
TZID:Europe/London
BEGIN:DAYLIGHT
TZOFFSETFROM:+0000
TZOFFSETTO:+0100
TZNAME:BST
DTSTART:20250330T010000
END:DAYLIGHT
BEGIN:STANDARD
TZOFFSETFROM:+0100
TZOFFSETTO:+0000
TZNAME:GMT
DTSTART:20251026T010000
END:STANDARD
BEGIN:DAYLIGHT
TZOFFSETFROM:+0000
TZOFFSETTO:+0100
TZNAME:BST
DTSTART:20260329T010000
END:DAYLIGHT
BEGIN:STANDARD
TZOFFSETFROM:+0100
TZOFFSETTO:+0000
TZNAME:GMT
DTSTART:20261025T010000
END:STANDARD
BEGIN:DAYLIGHT
TZOFFSETFROM:+0000
TZOFFSETTO:+0100
TZNAME:BST
DTSTART:20270328T010000
END:DAYLIGHT
BEGIN:STANDARD
TZOFFSETFROM:+0100
TZOFFSETTO:+0000
TZNAME:GMT
DTSTART:20271031T010000
END:STANDARD
END:VTIMEZONE
BEGIN:VEVENT
DTSTART;TZID=Europe/London:20260513T091500
DTEND;TZID=Europe/London:20260513T133000
DTSTAMP:20260424T100213
CREATED:20260323T110832Z
LAST-MODIFIED:20260330T214728Z
UID:10000650-1778663700-1778679000@talintpartners.com
SUMMARY:Creating Value in Talent Tech: Differentiation\, Scale and M&A Readiness
DESCRIPTION:The UK talent technology market is becoming increasingly saturated\, with platforms converging around similar capabilities. As a result\, differentiation is no longer a product challenge alone—it’s a question of positioning\, data ownership\, and commercial strategy. \nThis invitation only event on Wednesday May 13th at Grant Thornton’s Head Office in London\, brings together founders\, investors\, and operators for a discussion on what is driving enterprise value in talent tech —and how businesses can position themselves for sustainable growth\, investment\, or exit. \nThis interactive session combining presentations\, panel debates and roundtable discussions will explore: \n1. Where differentiation is emerging—and where it isn’t \nMany platforms offer similar capabilities. Long-term growth increasingly depends on clear positioning and defensible value creation. \n\nMoving beyond feature parity to true strategic differentiation\nUsing AI to drive real value\, not just automation\nCreating category leadership and strong brand positioning\n\n2. Building Value in Talent Tech Businesses \n\nWhere real value is created in talent technology ecosystems\nBuilding sticky enterprise integrations\nScaling recurring revenue\n\n3. Building businesses that are both scalable and acquisition-ready \nThe talent tech sector continues to attract interest from venture capital\, private equity\, and strategic buyers\, but expectations around value creation have evolved. \n\nCurrent investment appetite in UK and European talent tech\nWhat strategic acquirers vs financial buyers prioritise\nSignals that indicate M&A readiness\nBuilding businesses with global scalability and acquisition appeal\n\nThis invitation only event is for leaders of HR & Recruitment Technology firms who are making strategic decisions about their growth\, investment\, solutions\, sales and partners. Registrations that do not sit within this sector will be cancelled.
URL:https://talintpartners.com/event/creating-value-in-talent-tech-differentiation-scale-and-ma-readiness/
LOCATION:Grant Thornton UK LLP\, 30 Finsbury Square\, London\, England\, EC2A 1AG\, United Kingdom
CATEGORIES:Talent Tech
ATTACH;FMTTYPE=image/jpeg:https://talintpartners.com/wp-content/uploads/2026/03/6ff1c584-4efe-47e0-b627-6e898adcc820.jpg
END:VEVENT
END:VCALENDAR